BEGIN:VCALENDAR
VERSION:2.0
PRODID:-//Obst- und Gartenbauverein Dietenhofen e.V.//NONSGML kigkonsult.se
  iCalcreator 2.30.10//
CALSCALE:GREGORIAN
METHOD:PUBLISH
UID:9a03a4bd-53dd-44a1-adc1-33fc58540eb1
X-WR-CALNAME:iCagenda
X-WR-CALDESC:Event Management Extension for Joomla!
X-WR-RELCALID:3E26604A-50F4-4449-8B3E-E4F4932D05B5
X-WR-TIMEZONE:UTC
BEGIN:VTIMEZONE
TZID:UTC
END:VTIMEZONE
BEGIN:VEVENT
UID:ab88eec3-fc48-403d-af0c-3abef43b2d98
DTSTAMP:20260423T144739Z
CATEGORIES:Öffentliche Veranstaltung
CLASS:PUBLIC
DESCRIPTION;ALTREP="CID:<FFFF__=0ABBE548DFE235B58f9e8a93d@coffeebean.com>":
 Frühjahrsversammlung Thema: 'Gegen (fast) allles ist ein Kraut gewachsen.
 \nReferentin: Rosi Goldbach\nErfahren Sie Wissenswertes über heimische Krä
 uter\, ihre Wirkung und ihre Anwendung im Alltag.
DTSTART:20260422T190000Z
DTEND:20260422T210000Z
GEO:00;0
LOCATION:Gasthaus Link\, Dietenhofen
ORGANIZER;CN=:info@ogv-dietenhofen.de
SEQUENCE:1
SUMMARY:Frühjahrsversammlung
TRANSP:OPAQUE
URL:https://www.ogv-dietenhofen.de/index.php/menu-veranstaltungen/menu-vera
 nstaltungen-vergangene/39-fruehjahrsversammlung-2026/2026-04-22-19-00
END:VEVENT
END:VCALENDAR
