BEGIN:VCALENDAR
VERSION:2.0
PRODID:-//Obst- und Gartenbauverein Dietenhofen e.V.//NONSGML kigkonsult.se
  iCalcreator 2.30.10//
CALSCALE:GREGORIAN
METHOD:PUBLISH
UID:385f5e54-2c4e-4622-a1f9-b56edb7c8057
X-WR-CALNAME:iCagenda
X-WR-CALDESC:Event Management Extension for Joomla!
X-WR-RELCALID:3E26604A-50F4-4449-8B3E-E4F4932D05B5
X-WR-TIMEZONE:UTC
BEGIN:VTIMEZONE
TZID:UTC
END:VTIMEZONE
BEGIN:VEVENT
UID:29dec90c-f0b2-4d0d-933d-690b1dd2d1d9
DTSTAMP:20260422T042202Z
CATEGORIES:Öffentliche Veranstaltung
CLASS:PUBLIC
DESCRIPTION;ALTREP="CID:<FFFF__=0ABBE548DFE235B58f9e8a93d@coffeebean.com>":
 Bitte um Anmeldung unter Email oder im Schuhhaus Schuh Tel. 09824/8785
DTSTART:20240629T070000Z
DTEND:20240629T210000Z
GEO:00;0
LOCATION:
ORGANIZER;CN=:info@ogv-dietenhofen.de
SEQUENCE:1
SUMMARY:Fahrt zur Landesgartenschau in Kirchheim
TRANSP:OPAQUE
URL:https://www.ogv-dietenhofen.de/index.php/menu-veranstaltungen/menu-vera
 nstaltungen-vergangene/10-landesgartenschau-in-kirchheim
END:VEVENT
END:VCALENDAR
