BEGIN:VCALENDAR
VERSION:2.0
PRODID:-//Obst- und Gartenbauverein Dietenhofen e.V.//NONSGML kigkonsult.se
  iCalcreator 2.30.10//
CALSCALE:GREGORIAN
METHOD:PUBLISH
UID:1275cfba-8c82-41a7-81da-bb5ad3e7644e
X-WR-CALNAME:iCagenda
X-WR-CALDESC:Event Management Extension for Joomla!
X-WR-RELCALID:3E26604A-50F4-4449-8B3E-E4F4932D05B5
X-WR-TIMEZONE:UTC
BEGIN:VTIMEZONE
TZID:UTC
END:VTIMEZONE
BEGIN:VEVENT
UID:d96bf769-4127-4943-a8cc-d14a576fc308
DTSTAMP:20260422T223406Z
CATEGORIES:Öffentliche Veranstaltung
CLASS:PUBLIC
DESCRIPTION;ALTREP="CID:<FFFF__=0ABBE548DFE235B58f9e8a93d@coffeebean.com>":
 Genießen Sie in gemütlicher Biergartenatmosphäre eine züftige Brotzeit mit
  Rettich\, Käse und Schinken.
DTSTART:20260613T160000Z
DTEND:20260613T220000Z
GEO:00;0
LOCATION:Mosthaus in Dietenhofen
ORGANIZER;CN=:info@ogv-dietenhofen.de
SEQUENCE:1
SUMMARY:Rettichfest
TRANSP:OPAQUE
URL:https://www.ogv-dietenhofen.de/index.php/menu-veranstaltungen/menu-vera
 nstaltungen-anstehend/40-rettichfest-2026/2026-06-13-16-00
END:VEVENT
END:VCALENDAR
