BEGIN:VCALENDAR
VERSION:2.0
PRODID:-//Obst- und Gartenbauverein Dietenhofen e.V.//NONSGML kigkonsult.se
  iCalcreator 2.30.10//
CALSCALE:GREGORIAN
METHOD:PUBLISH
UID:614be240-dce6-4682-a44f-c9b47d6dc557
X-WR-CALNAME:iCagenda
X-WR-CALDESC:Event Management Extension for Joomla!
X-WR-RELCALID:3E26604A-50F4-4449-8B3E-E4F4932D05B5
X-WR-TIMEZONE:UTC
BEGIN:VTIMEZONE
TZID:UTC
END:VTIMEZONE
BEGIN:VEVENT
UID:34f3b085-f556-41c1-b699-d953a0341d37
DTSTAMP:20260425T175945Z
CATEGORIES:Öffentliche Veranstaltung
CLASS:PUBLIC
DESCRIPTION;ALTREP="CID:<FFFF__=0ABBE548DFE235B58f9e8a93d@coffeebean.com>":
 Wir fahren am Samstag\, den 25.10.2025 zu einer Führung nach Iphofen.\nAns
 chließend gehts zu Vesper und Weinprobe in die Vinothek Iphofen.
DTSTART:20251025T130000Z
DTEND:20251025T230000Z
GEO:00;0
LOCATION:Iphofen
ORGANIZER;CN=:info@ogv-dietenhofen.de
SEQUENCE:1
SUMMARY:Weinfahrt
TRANSP:OPAQUE
URL:https://www.ogv-dietenhofen.de/index.php/menu-veranstaltungen/menu-vera
 nstaltungen-anstehend/30-weinfahrt-2025/2025-10-25-13-00
END:VEVENT
END:VCALENDAR
