BEGIN:VCALENDAR
VERSION:2.0
PRODID:-//Obst- und Gartenbauverein Dietenhofen e.V.//NONSGML kigkonsult.se
  iCalcreator 2.30.10//
CALSCALE:GREGORIAN
METHOD:PUBLISH
UID:9c51bca5-b17f-4c6c-83cf-82f9bfac8b52
X-WR-CALNAME:iCagenda
X-WR-CALDESC:Event Management Extension for Joomla!
X-WR-RELCALID:3E26604A-50F4-4449-8B3E-E4F4932D05B5
X-WR-TIMEZONE:UTC
BEGIN:VTIMEZONE
TZID:UTC
END:VTIMEZONE
BEGIN:VEVENT
UID:8f84f72a-c2db-4666-9b0b-d7c1a9c2a40b
DTSTAMP:20260422T145022Z
CATEGORIES:Kurse
CLASS:PUBLIC
DESCRIPTION;ALTREP="CID:<FFFF__=0ABBE548DFE235B58f9e8a93d@coffeebean.com>":
 Bitte Gartenschere mitbringen\nSie können unter fachkundiger Anleitung das
  gelernte ausprobieren
DTSTART:20250222T130000Z
DTEND:20250222T170000Z
GEO:00;0
LOCATION:Garten der Familie Henninger Rüderner Str.
ORGANIZER:
SEQUENCE:1
SUMMARY:Baumschnittkurs
TRANSP:OPAQUE
URL:https://www.ogv-dietenhofen.de/index.php/menu-veranstaltungen/menu-vera
 nstaltungen-anstehend/19-baumschnittkurs-2025/2025-02-22-13-00
END:VEVENT
END:VCALENDAR
